BEGIN:VCALENDAR
VERSION:2.0
PRODID:-//Michael Pelzel - ECPv6.15.11//NONSGML v1.0//EN
CALSCALE:GREGORIAN
METHOD:PUBLISH
X-ORIGINAL-URL:https://www.michaelpelzel.ch
X-WR-CALDESC:Veranstaltungen im Michael Pelzel
REFRESH-INTERVAL;VALUE=DURATION:PT1H
X-Robots-Tag:noindex
X-PUBLISHED-TTL:PT1H
BEGIN:VTIMEZONE
TZID:Europe/Zurich
BEGIN:DAYLIGHT
TZOFFSETFROM:+0100
TZOFFSETTO:+0200
TZNAME:CEST
DTSTART:20180325T010000
END:DAYLIGHT
BEGIN:STANDARD
TZOFFSETFROM:+0200
TZOFFSETTO:+0100
TZNAME:CET
DTSTART:20181028T010000
END:STANDARD
BEGIN:DAYLIGHT
TZOFFSETFROM:+0100
TZOFFSETTO:+0200
TZNAME:CEST
DTSTART:20190331T010000
END:DAYLIGHT
BEGIN:STANDARD
TZOFFSETFROM:+0200
TZOFFSETTO:+0100
TZNAME:CET
DTSTART:20191027T010000
END:STANDARD
BEGIN:DAYLIGHT
TZOFFSETFROM:+0100
TZOFFSETTO:+0200
TZNAME:CEST
DTSTART:20200329T010000
END:DAYLIGHT
BEGIN:STANDARD
TZOFFSETFROM:+0200
TZOFFSETTO:+0100
TZNAME:CET
DTSTART:20201025T010000
END:STANDARD
END:VTIMEZONE
BEGIN:VEVENT
DTSTART;TZID=Europe/Zurich:20190601T111500
DTEND;TZID=Europe/Zurich:20190601T130000
DTSTAMP:20260424T082700
CREATED:20240422T094222Z
LAST-MODIFIED:20240422T094222Z
UID:2650-1559387700-1559394000@www.michaelpelzel.ch
SUMMARY:Orgelvesper
DESCRIPTION:Orgel-Improvisationen und liturgische Texte
URL:https://www.michaelpelzel.ch/event/orgelvesper-4/
LOCATION:Reformierte Kirche Hombrechtikon\, Hombrechtikon\, Schweiz\, Oetwilerstrasse\, Hombrechtikon\, 8634\, Switzerland
CATEGORIES:2019
END:VEVENT
BEGIN:VEVENT
DTSTART;TZID=Europe/Zurich:20190602T193000
DTEND;TZID=Europe/Zurich:20190602T213000
DTSTAMP:20260424T082700
CREATED:20240422T094153Z
LAST-MODIFIED:20240422T094153Z
UID:2648-1559503800-1559511000@www.michaelpelzel.ch
SUMMARY:"Last call to Elpisonia"
DESCRIPTION:Michael Pelzel (*1978) / Dominik Riedo (*1974)  «Last call to Elpisonia»\, Opern-UA \nKammeroper für 11 Instrumente und 6 Gesangssolisten
URL:https://www.michaelpelzel.ch/event/last-call-to-elpisonia/
LOCATION:Obernhaus Zürich\, Studiobühne\, Zürich\, Switzerland
CATEGORIES:2019
END:VEVENT
BEGIN:VEVENT
DTSTART;TZID=Europe/Zurich:20190628T190000
DTEND;TZID=Europe/Zurich:20190628T210000
DTSTAMP:20260424T082700
CREATED:20240422T094123Z
LAST-MODIFIED:20240422T094123Z
UID:2646-1561748400-1561755600@www.michaelpelzel.ch
SUMMARY:Opernaufführung-Premiere "Last Call"
DESCRIPTION:Michael Pelzel (*1978)\, Dominik Riedo (*1974) \n«Last Call» Kammeroper für 6 Sänger und 12 Instrumente\, \nChris Kondek\, Regie \nRuth Stofer\, Videodesign \nSonja Füsti\, Bühnenbild \nJulia von Leliwa\, Kostüme \nJohnathan Stockhammer\, Leitung
URL:https://www.michaelpelzel.ch/event/opernauffuehrung-premiere-last-call/
LOCATION:Obernhaus Zürich\, Studiobühne\, Zürich\, Switzerland
CATEGORIES:2019
END:VEVENT
BEGIN:VEVENT
DTSTART;TZID=Europe/Zurich:20190630T190000
DTEND;TZID=Europe/Zurich:20190630T210000
DTSTAMP:20260424T082700
CREATED:20240422T094045Z
LAST-MODIFIED:20240422T094045Z
UID:2644-1561921200-1561928400@www.michaelpelzel.ch
SUMMARY:Kammeropernaufführung "Last Call"
DESCRIPTION:Michael Pelzel (*1978)\, Dominik Riedo (*1974) \n«Last Call» Kammeroper für 6 Sänger und 12 Instrumente\, \nChris Kondek\, Regie \nRuth Stofer\, Videodesign \nSonja Füsti\, Bühnenbild \nJulia von Leliwa\, Kostüme \nJohnathan Stockhammer\, Leitung
URL:https://www.michaelpelzel.ch/event/kammeropernauffuehrung-last-call-2/
LOCATION:Obernhaus Zürich\, Studiobühne\, Zürich\, Switzerland
CATEGORIES:2019
END:VEVENT
END:VCALENDAR