BEGIN:VCALENDAR
VERSION:2.0
PRODID:-//Michael Pelzel - ECPv6.15.11//NONSGML v1.0//EN
CALSCALE:GREGORIAN
METHOD:PUBLISH
X-WR-CALNAME:Michael Pelzel
X-ORIGINAL-URL:https://www.michaelpelzel.ch
X-WR-CALDESC:Veranstaltungen im Michael Pelzel
REFRESH-INTERVAL;VALUE=DURATION:PT1H
X-Robots-Tag:noindex
X-PUBLISHED-TTL:PT1H
BEGIN:VTIMEZONE
TZID:Europe/Zurich
BEGIN:DAYLIGHT
TZOFFSETFROM:+0100
TZOFFSETTO:+0200
TZNAME:CEST
DTSTART:20180325T010000
END:DAYLIGHT
BEGIN:STANDARD
TZOFFSETFROM:+0200
TZOFFSETTO:+0100
TZNAME:CET
DTSTART:20181028T010000
END:STANDARD
BEGIN:DAYLIGHT
TZOFFSETFROM:+0100
TZOFFSETTO:+0200
TZNAME:CEST
DTSTART:20190331T010000
END:DAYLIGHT
BEGIN:STANDARD
TZOFFSETFROM:+0200
TZOFFSETTO:+0100
TZNAME:CET
DTSTART:20191027T010000
END:STANDARD
BEGIN:DAYLIGHT
TZOFFSETFROM:+0100
TZOFFSETTO:+0200
TZNAME:CEST
DTSTART:20200329T010000
END:DAYLIGHT
BEGIN:STANDARD
TZOFFSETFROM:+0200
TZOFFSETTO:+0100
TZNAME:CET
DTSTART:20201025T010000
END:STANDARD
END:VTIMEZONE
BEGIN:VEVENT
DTSTART;TZID=Europe/Zurich:20190704T190000
DTEND;TZID=Europe/Zurich:20190704T210000
DTSTAMP:20260424T002420
CREATED:20240422T094012Z
LAST-MODIFIED:20240422T094012Z
UID:2641-1562266800-1562274000@www.michaelpelzel.ch
SUMMARY:Kammeroper "Last Call"
DESCRIPTION:Michael Pelzel (*1978)\, Dominik Riedo (*1974) \n«Last Call» Kammeroper für 6 Sänger und 12 Instrumente\, \nChris Kondek\, Regie \nRuth Stofer\, Videodesign \nSonja Füsti\, Bühnenbild \nJulia von Leliwa\, Kostüme \nJohnathan Stockhammer\, Leitung
URL:https://www.michaelpelzel.ch/event/kammeroper-last-call/
LOCATION:Obernhaus Zürich\, Zürich\, Switzerland
CATEGORIES:2019
END:VEVENT
BEGIN:VEVENT
DTSTART;TZID=Europe/Zurich:20190706T190000
DTEND;TZID=Europe/Zurich:20190706T210000
DTSTAMP:20260424T002420
CREATED:20240422T093911Z
LAST-MODIFIED:20240422T093911Z
UID:2638-1562439600-1562446800@www.michaelpelzel.ch
SUMMARY:Kammeropernaufführung "Last Call"
DESCRIPTION:Michael Pelzel (*1978)\, Dominik Riedo (*1974) \n«Last Call» Kammeroper für 6 Sänger und 12 Instrumente\, \nChris Kondek\, Regie \nRuth Stofer\, Videodesign \nSonja Füsti\, Bühnenbild \nJulia von Leliwa\, Kostüme \nJohnathan Stockhammer\, Leitung
URL:https://www.michaelpelzel.ch/event/kammeropernauffuehrung-last-call/
LOCATION:Obernhaus Zürich\, Studiobühne\, Zürich\, Switzerland
CATEGORIES:2019
END:VEVENT
END:VCALENDAR