BEGIN:VCALENDAR
VERSION:2.0
PRODID:-//Michael Pelzel - ECPv6.15.11//NONSGML v1.0//EN
CALSCALE:GREGORIAN
METHOD:PUBLISH
X-WR-CALNAME:Michael Pelzel
X-ORIGINAL-URL:https://www.michaelpelzel.ch
X-WR-CALDESC:Veranstaltungen im Michael Pelzel
REFRESH-INTERVAL;VALUE=DURATION:PT1H
X-Robots-Tag:noindex
X-PUBLISHED-TTL:PT1H
BEGIN:VTIMEZONE
TZID:Europe/Zurich
BEGIN:DAYLIGHT
TZOFFSETFROM:+0100
TZOFFSETTO:+0200
TZNAME:CEST
DTSTART:20180325T010000
END:DAYLIGHT
BEGIN:STANDARD
TZOFFSETFROM:+0200
TZOFFSETTO:+0100
TZNAME:CET
DTSTART:20181028T010000
END:STANDARD
BEGIN:DAYLIGHT
TZOFFSETFROM:+0100
TZOFFSETTO:+0200
TZNAME:CEST
DTSTART:20190331T010000
END:DAYLIGHT
BEGIN:STANDARD
TZOFFSETFROM:+0200
TZOFFSETTO:+0100
TZNAME:CET
DTSTART:20191027T010000
END:STANDARD
BEGIN:DAYLIGHT
TZOFFSETFROM:+0100
TZOFFSETTO:+0200
TZNAME:CEST
DTSTART:20200329T010000
END:DAYLIGHT
BEGIN:STANDARD
TZOFFSETFROM:+0200
TZOFFSETTO:+0100
TZNAME:CET
DTSTART:20201025T010000
END:STANDARD
END:VTIMEZONE
BEGIN:VEVENT
DTSTART;TZID=Europe/Zurich:20191016T200000
DTEND;TZID=Europe/Zurich:20191016T220000
DTSTAMP:20260420T051203
CREATED:20240422T093532Z
LAST-MODIFIED:20240422T093532Z
UID:2627-1571256000-1571263200@www.michaelpelzel.ch
SUMMARY:Konzert mit dem Arditti-Quartett
DESCRIPTION:
URL:https://www.michaelpelzel.ch/event/konzert-mit-dem-arditti-quartett/
LOCATION:Parma\, Konzerthaus
CATEGORIES:2019
END:VEVENT
BEGIN:VEVENT
DTSTART;TZID=Europe/Zurich:20191017T200000
DTEND;TZID=Europe/Zurich:20191017T220000
DTSTAMP:20260420T051203
CREATED:20240422T093503Z
LAST-MODIFIED:20240422T093503Z
UID:2625-1571342400-1571349600@www.michaelpelzel.ch
SUMMARY:Gesprächssendung Thema Musik Live
DESCRIPTION:
URL:https://www.michaelpelzel.ch/event/gespraechssendung-thema-musik-live-3/
LOCATION:Donaueschingen\, Museum Art.Plus\, Spiegelsaal\, hr2-Kultur-Radio
CATEGORIES:2019
END:VEVENT
BEGIN:VEVENT
DTSTART;TZID=Europe/Zurich:20191018T200000
DTEND;TZID=Europe/Zurich:20191018T220000
DTSTAMP:20260420T051203
CREATED:20240422T093434Z
LAST-MODIFIED:20240422T093434Z
UID:2622-1571428800-1571436000@www.michaelpelzel.ch
SUMMARY:Donaueschinger Musiktage
DESCRIPTION:Michael Pelzel (*1978) UA Werk für Orchester und Elektronik mit Bezug zu Thomas Pynchon \nSWR Sinfonieorchester\, SWR Experimentalstdio Freiburg im Breisgau
URL:https://www.michaelpelzel.ch/event/donaueschinger-musiktage/
LOCATION:Baarsporthalle\, Donaueschingen
CATEGORIES:2019
END:VEVENT
BEGIN:VEVENT
DTSTART;TZID=Europe/Zurich:20191019T140500
DTEND;TZID=Europe/Zurich:20191019T160000
DTSTAMP:20260420T051203
CREATED:20240422T093355Z
LAST-MODIFIED:20240422T093355Z
UID:2620-1571493900-1571500800@www.michaelpelzel.ch
SUMMARY:Gesprächssendung Thema Musik Live
DESCRIPTION:
URL:https://www.michaelpelzel.ch/event/gespraechssendung-thema-musik-live-2/
LOCATION:Donaueschingen\, Museum Art.Plus\, Spiegelsaal\, hr2-Kultur-Radio
CATEGORIES:2019
END:VEVENT
BEGIN:VEVENT
DTSTART;TZID=Europe/Zurich:20191027T170000
DTEND;TZID=Europe/Zurich:20191027T190000
DTSTAMP:20260420T051203
CREATED:20240422T093323Z
LAST-MODIFIED:20240422T093323Z
UID:2618-1572195600-1572202800@www.michaelpelzel.ch
SUMMARY:Stummfilmimprovisation
DESCRIPTION:Werke von diversen Komponisten aus dem Filmmusikbereich und von Percy Fletcher\, Percy Withlock und Richard Purvis \nMichael Pelzel\, Orgel
URL:https://www.michaelpelzel.ch/event/stummfilmimprovisation/
LOCATION:Reformierte Kirche Hombrechtikon\, Hombrechtikon\, Schweiz\, Oetwilerstrasse\, Hombrechtikon\, 8634\, Switzerland
CATEGORIES:2019
END:VEVENT
END:VCALENDAR